
BEGIN:VCALENDAR
VERSION:2.0
PRODID:-//Município de Figueira - ECPv6.15.20//NONSGML v1.0//EN
CALSCALE:GREGORIAN
METHOD:PUBLISH
X-WR-CALNAME:Município de Figueira
X-ORIGINAL-URL:https://www.cm-fcr.pt
X-WR-CALDESC:Eventos para Município de Figueira
REFRESH-INTERVAL;VALUE=DURATION:PT1H
X-Robots-Tag:noindex
X-PUBLISHED-TTL:PT1H
BEGIN:VTIMEZONE
TZID:Europe/Lisbon
BEGIN:DAYLIGHT
TZOFFSETFROM:+0000
TZOFFSETTO:+0100
TZNAME:WEST
DTSTART:20250330T010000
END:DAYLIGHT
BEGIN:STANDARD
TZOFFSETFROM:+0100
TZOFFSETTO:+0000
TZNAME:WET
DTSTART:20251026T010000
END:STANDARD
BEGIN:DAYLIGHT
TZOFFSETFROM:+0000
TZOFFSETTO:+0100
TZNAME:WEST
DTSTART:20260329T010000
END:DAYLIGHT
BEGIN:STANDARD
TZOFFSETFROM:+0100
TZOFFSETTO:+0000
TZNAME:WET
DTSTART:20261025T010000
END:STANDARD
BEGIN:DAYLIGHT
TZOFFSETFROM:+0000
TZOFFSETTO:+0100
TZNAME:WEST
DTSTART:20270328T010000
END:DAYLIGHT
BEGIN:STANDARD
TZOFFSETFROM:+0100
TZOFFSETTO:+0000
TZNAME:WET
DTSTART:20271031T010000
END:STANDARD
END:VTIMEZONE
BEGIN:VEVENT
DTSTART;TZID=Europe/Lisbon:20260414T173000
DTEND;TZID=Europe/Lisbon:20260424T173000
DTSTAMP:20260422T123243
CREATED:20260413T090535Z
LAST-MODIFIED:20260413T090535Z
UID:147121-1776187800-1777051800@www.cm-fcr.pt
SUMMARY:Exposição "Natureza: uma mostra de pintura"\, de Maria Romano
DESCRIPTION:O Centro Interpretativo da Batalha de Castelo Rodrigo vai receber\, a partir do dia 14 de abril\, pelas 17h30\, a exposição “Natureza: uma mostra de pintura”\, da autoria de Maria da Graça Machado Romano\, natural da Vermiosa\, onde reside e dedica uma parte significativa do seu tempo à pintura a óleo.\n\n\n\nDepois de uma primeira exposição dedicada ao mesmo tema\, a artista regressa agora com uma segunda mostra\, reforçando a sua ligação ao universo natural. Através de um olhar sensível e atento\, retrata a natureza mesmo perante as constantes agressões de que é alvo.
URL:https://www.cm-fcr.pt/evento/exposicao-natureza-uma-mostra-de-pintura-de-maria-romano/
LOCATION:Centro Interpretativo da Batalha de Castelo Rodrigo
CATEGORIES:Cultura,Lazer
ATTACH;FMTTYPE=image/jpeg:https://www.cm-fcr.pt/wp-content/uploads/2026/04/pintura.jpg
END:VEVENT
BEGIN:VEVENT
DTSTART;VALUE=DATE:20260424
DTEND;VALUE=DATE:20260429
DTSTAMP:20260422T123243
CREATED:20260410T134931Z
LAST-MODIFIED:20260410T155500Z
UID:147086-1776988800-1777420799@www.cm-fcr.pt
SUMMARY:Semana do Livro e das Artes
DESCRIPTION:Entre os dias 24 e 28 de abril\, o Município de Figueira de Castelo Rodrigo\, vai transforma-se num palco onde a palavra escrita e a expressão artística se encontram. A Semana do Livro e das Artes é mais do que um evento\, é um convite para mergulhar no universo infinito da criatividade e do conhecimento\, focado na cultura\, lazer e comunidade\, com diversas atividades para famílias e público escolar\, contemplando apresentações teatrais\, música\, atelier de pintura\, feira do livro e apresentações de livros.\nAo longo destes dias\, a programação convida à descoberta e valorização do património cultural\, de onde salientamos\, desde já\, a inauguração da Feira do Livro\, no dia 24 de abril\, pelas 18h00\, momento em que vamos receber o nosso conterrâneo e amigo\, Dr. Álvaro Carvalho\, para uma sessão de autógrafos do seu mais recente livro “Radiografia de Corpo Inteiro”\, ao que se segue um espetáculo de Tango Argentino Volver.\nDurante esta semana em que a cultura é vivida de uma forma mais intensa\, vamos também comemorar o 52º Aniversário do 25 de Abril de 1974\, com o momento institucional mais alto a decorrer no Salão Nobre da Câmara Municipal\, com a Sessão Solene evocativa deste dia. Pelas 21h30m\, o Pavilhão dos Desportos\, teremos ainda o concerto de “Tributo a Zeca Afonso”\, com Fernando Ribeiro.\nOs livros e a leitura funcionam como veículos de conhecimento que estimulam o pensamento crítico\, ampliam o vocabulário e a criatividade\, neste sentido teremos vários contadores de histórias e no dia 26 de abril\, vamos contar com a presença de Pedro Chagas Freitas para um encontro intimista\, e um convite a conhecer melhor o autor\, o seu percurso e a sua forma única de transformar sentimentos em literatura.
URL:https://www.cm-fcr.pt/evento/semana-do-livro-e-das-artes/
LOCATION:Figueira de Castelo Rodrigo
CATEGORIES:Cultura,Lazer,Simpósios
ATTACH;FMTTYPE=image/jpeg:https://www.cm-fcr.pt/wp-content/uploads/2026/04/semana_artes_2-scaled.jpg
END:VEVENT
BEGIN:VEVENT
DTSTART;VALUE=DATE:20260425
DTEND;VALUE=DATE:20260426
DTSTAMP:20260422T123243
CREATED:20260422T101638Z
LAST-MODIFIED:20260422T101638Z
UID:147284-1777075200-1777161599@www.cm-fcr.pt
SUMMARY:Comemorações dos 52 anos do 25 de Abril
DESCRIPTION:Figueira de Castelo Rodrigo vai comemorar os 52 anos do 25 de Abril com um programa diversificado\, que inclui inaugurações de equipamentos públicos e espetáculos musicais\, que pretende envolver toda a população em torno da evocação desta efeméride.\n\n\nAs celebrações do Dia da Liberdade começam com a habitual cerimónia do Hastear da Bandeira\, pelas 10h30\, seguindo-se a Sessão Solene Comemorativa do 25 de Abril\, no Salão Nobre dos Paços do Concelho. A cerimónia será presidida pelo Secretário de Estado Adjunto e da Administração Interna\, Paulo Simões Ribeiro. Às 12h00 será efetuada uma visita às obras de reabilitação total do quartel da GNR de Figueira de Castelo Rodrigo\, orçadas em cerca de 1\,3 milhões de euros.\n\n\nNo final da manhã\, pelas 12h30\, vai decorrer o ato simbólico de bênção da ampliação do Cemitério Municipal\, uma intervenção que veio valorizar e dignificar este local e permitir uma melhor funcionalidade do espaço existente.\n\n\nÀ tarde\, pelas 15h\, serão inauguradas as obras de reabilitação da Casa do Povo de Vilar de Amargo\, um espaço multifuncional\, que passa a estar ao dispor da população\, destinado a acolher eventos e a servir de apoio à Junta de Freguesia. Esta inauguração será abrilhantada pela atuação do Grupo Folclórico de Riba-Côa.\n\n\nAs comemorações do 25 de Abril terminam no Auditório do Pavilhão dos Desportos\, pelas 21h30\, com o concerto “Tributo a Zeca Afonso”\, por Fernando Ribeiro\, onde será revisitada a obra do poeta\, compositor e cantor português\, um dos símbolos da resistência à ditadura do Estado Novo.\n\n25 Abril 2026
URL:https://www.cm-fcr.pt/evento/comemoracoes-dos-52-anos-do-25-de-abril/
LOCATION:Figueira de Castelo Rodrigo
CATEGORIES:Cultura
ATTACH;FMTTYPE=image/jpeg:https://www.cm-fcr.pt/wp-content/uploads/2026/04/25_abril_2026.jpg
END:VEVENT
END:VCALENDAR